BEGIN:VCALENDAR
VERSION:2.0
PRODID:-//TYPO3/NONSGML News system (news)//EN
CALSCALE:GREGORIAN
METHOD:PUBLISH
BEGIN:VEVENT
UID:news-112563@st-stefan-gailtal.gv.at

DTSTAMP:20260421T120731Z



DTSTART;TZID=Europe/Vienna:20260325T180000
DTEND;TZID=Europe/Vienna:20260325T000000

SUMMARY:Vortrag - Ein guter Morgen beginnt am Teller
DESCRIPTION:Mit den besten und schnellsten Frühstücksideen für einen kraftvollen Start in den Tag mit Sandra Angere MSc, MBA, MAS - Integrative Ernährungsexpertin, DGKP, Ernährungscoach, dipl. systemischer Coach

LOCATION:Kinderschutzzentrum DELFI Spittal, Körnerstraße 15, 9800 Spittal an der Drau


END:VEVENT
END:VCALENDAR
