BEGIN:VCALENDAR
VERSION:2.0
PRODID:-//TYPO3/NONSGML News system (news)//EN
CALSCALE:GREGORIAN
METHOD:PUBLISH
BEGIN:VEVENT
UID:news-117018@st-stefan-gailtal.gv.at

DTSTAMP:20260424T153423Z



DTSTART;TZID=Europe/Vienna:20260426T100000
DTEND;TZID=Europe/Vienna:20260426T120000

SUMMARY:Tierisches Wandererlebnis für Groß und Klein
DESCRIPTION:

LOCATION:9623 Köstendorf 41


END:VEVENT
END:VCALENDAR
