BEGIN:VCALENDAR
VERSION:2.0
PRODID:-//TYPO3/NONSGML News system (news)//EN
CALSCALE:GREGORIAN
METHOD:PUBLISH
BEGIN:VEVENT
UID:news-109685@st-stefan-gailtal.gv.at

DTSTAMP:20260421T121019Z



DTSTART;TZID=Europe/Vienna:20260214T000000
DTEND;TZID=Europe/Vienna:20260214T000000

SUMMARY:Die Wintermedizin der Hildegard von Bingen Teil 2
DESCRIPTION:
Heilkraft - der Hildegard von Bingen - Medizin

Naturarzneien für Körper und Seele

LOCATION:


END:VEVENT
END:VCALENDAR
